BEGIN:VCALENDAR
VERSION:2.0
PRODID:-//Musikverein Leutenbach - ECPv6.15.20//NONSGML v1.0//EN
CALSCALE:GREGORIAN
METHOD:PUBLISH
X-ORIGINAL-URL:https://musikverein-leutenbach.de
X-WR-CALDESC:Veranstaltungen für Musikverein Leutenbach
REFRESH-INTERVAL;VALUE=DURATION:PT1H
X-Robots-Tag:noindex
X-PUBLISHED-TTL:PT1H
BEGIN:VTIMEZONE
TZID:UTC
BEGIN:STANDARD
TZOFFSETFROM:+0000
TZOFFSETTO:+0000
TZNAME:UTC
DTSTART:20250101T000000
END:STANDARD
END:VTIMEZONE
BEGIN:VEVENT
DTSTART;VALUE=DATE:20260731
DTEND;VALUE=DATE:20260803
DTSTAMP:20260421T014413
CREATED:20181228T211133Z
LAST-MODIFIED:20251121T154720Z
UID:733-1785456000-1785715199@musikverein-leutenbach.de
SUMMARY:50. Leutenbacher Hocketse
DESCRIPTION:
URL:https://musikverein-leutenbach.de/event/leutenbacher-hocketse-2/
LOCATION:Spatzenhof Leutenbach\, Spatzenhof\, Leutenbach\, 71397\, Deutschland
CATEGORIES:Feste
ORGANIZER;CN="Musikverein Leutenbach e.V.":MAILTO:presse@musikverein-leutenbach.de
END:VEVENT
END:VCALENDAR