BEGIN:VCALENDAR
VERSION:2.0
PRODID:-//Musikverein Leutenbach - ECPv6.15.20//NONSGML v1.0//EN
CALSCALE:GREGORIAN
METHOD:PUBLISH
X-WR-CALNAME:Musikverein Leutenbach
X-ORIGINAL-URL:https://musikverein-leutenbach.de
X-WR-CALDESC:Veranstaltungen für Musikverein Leutenbach
REFRESH-INTERVAL;VALUE=DURATION:PT1H
X-Robots-Tag:noindex
X-PUBLISHED-TTL:PT1H
BEGIN:VTIMEZONE
TZID:UTC
BEGIN:STANDARD
TZOFFSETFROM:+0000
TZOFFSETTO:+0000
TZNAME:UTC
DTSTART:20250101T000000
END:STANDARD
END:VTIMEZONE
BEGIN:VEVENT
DTSTART;TZID=UTC:20260430T174500
DTEND;TZID=UTC:20260430T174500
DTSTAMP:20260421T030502
CREATED:20251121T151856Z
LAST-MODIFIED:20260418T134802Z
UID:1823-1777571100-1777571100@musikverein-leutenbach.de
SUMMARY:Maifeier
DESCRIPTION:
URL:https://musikverein-leutenbach.de/event/maifeier/
LOCATION:Gemeinschaftsschule Leutenbach\, Theodor-Heuss-Straße 27\, Leutenbach\, 71397
END:VEVENT
BEGIN:VEVENT
DTSTART;TZID=UTC:20260510T110000
DTEND;TZID=UTC:20260510T130000
DTSTAMP:20260421T030502
CREATED:20191225T140600Z
LAST-MODIFIED:20260401T194420Z
UID:930-1778410800-1778418000@musikverein-leutenbach.de
SUMMARY:Muttertagskonzert
DESCRIPTION:
URL:https://musikverein-leutenbach.de/event/muttertagskonzert/
LOCATION:Rathausplatz Leutenbach\, Rathausplatz 1\, Leutenbach\, 71397\, Deutschland
CATEGORIES:Konzerte
ATTACH;FMTTYPE=image/png:https://musikverein-leutenbach.de/wp-content/uploads/2019/12/Muttertagskonzert-2026.png
ORGANIZER;CN="Musikverein Leutenbach e.V.":MAILTO:presse@musikverein-leutenbach.de
END:VEVENT
BEGIN:VEVENT
DTSTART;TZID=UTC:20260614T110000
DTEND;TZID=UTC:20260614T110000
DTSTAMP:20260421T030502
CREATED:20260418T142103Z
LAST-MODIFIED:20260418T142125Z
UID:1959-1781434800-1781434800@musikverein-leutenbach.de
SUMMARY:Stadtradeln Auftaktveranstaltung
DESCRIPTION:Leutenbach schwingt sich wieder in den Sattel – und wir sind musikalisch mit dabei! Am Sonntag\, den 14. Juni 2026\, findet die kreisweite Auftaktveranstaltung zum STADTRADELN 2026 direkt bei uns in Leutenbach statt.\nIm Rahmen des ökumenischen Kirchturmfests sorgen wir für den passenden Soundtrack zum Start der dreiwöchigen Radel-Aktion. Kommen Sie vorbei\, genießen Sie die Musik und lassen Sie sich für die kommenden Kilometer motivieren!\n\nAußerdem organisiert unsere Jugendabteilung einen Kuchenverkauf.
URL:https://musikverein-leutenbach.de/event/stadtradeln-auftaktveranstaltung/
LOCATION:Kirchen Leuenbach\, Theodor-Heuss-Straße 34\, Leutenbach\, 71397
CATEGORIES:Feste
ATTACH;FMTTYPE=image/jpeg:https://musikverein-leutenbach.de/wp-content/uploads/2026/04/Logo-Stadtradeln.jpg
END:VEVENT
BEGIN:VEVENT
DTSTART;TZID=UTC:20260625T150000
DTEND;TZID=UTC:20260625T180000
DTSTAMP:20260421T030502
CREATED:20191225T141126Z
LAST-MODIFIED:20251121T153416Z
UID:934-1782399600-1782410400@musikverein-leutenbach.de
SUMMARY:Spielplatzfest
DESCRIPTION:
URL:https://musikverein-leutenbach.de/event/spielplatzfest/
LOCATION:Spielplatz Seestraße Leutenbach
CATEGORIES:Feste
ATTACH;FMTTYPE=image/png:https://musikverein-leutenbach.de/wp-content/uploads/2019/12/Spielplatzfest-2026.png
ORGANIZER;CN="Musikverein Leutenbach e.V.":MAILTO:presse@musikverein-leutenbach.de
END:VEVENT
BEGIN:VEVENT
DTSTART;VALUE=DATE:20260626
DTEND;VALUE=DATE:20260627
DTSTAMP:20260421T030502
CREATED:20251121T153637Z
LAST-MODIFIED:20251121T153637Z
UID:1828-1782432000-1782518399@musikverein-leutenbach.de
SUMMARY:Bürgerempfang
DESCRIPTION:
URL:https://musikverein-leutenbach.de/event/buergerempfang/
LOCATION:Rems Murr Halle Leutenbach
CATEGORIES:Konzerte
END:VEVENT
BEGIN:VEVENT
DTSTART;VALUE=DATE:20260630
DTEND;VALUE=DATE:20260701
DTSTAMP:20260421T030502
CREATED:20251121T153752Z
LAST-MODIFIED:20251121T153752Z
UID:1830-1782777600-1782863999@musikverein-leutenbach.de
SUMMARY:Abschlusskonzert Leutenbacher Musikmodell
DESCRIPTION:
URL:https://musikverein-leutenbach.de/event/abschlusskonzert-leutenbacher-musikmodell/
LOCATION:Gemeinschaftsschule Leutenbach\, Theodor-Heuss-Straße 27\, Leutenbach\, 71397
END:VEVENT
BEGIN:VEVENT
DTSTART;TZID=UTC:20260723T180000
DTEND;TZID=UTC:20260723T180000
DTSTAMP:20260421T030502
CREATED:20260418T134430Z
LAST-MODIFIED:20260418T134539Z
UID:1953-1784829600-1784829600@musikverein-leutenbach.de
SUMMARY:Blasmusikfestival Plüderhausener Festtage
DESCRIPTION:Der Musikverein Leutenbach wurde aus einer Rekordzahl von 24 Bewerbern ausgewählt und ist Teil des renommierten 13. Blasmusikfestivals „Rems Regio“ in Plüderhausen.\n\n\nAm Donnerstag\, den 23. Juli 2026\, verwandelt sich das Festzelt am Gänswasen in ein Festzelt der Blasmusik. Da der Zuspruch in diesem Jahr so gewaltig war\, wurde das Teilnehmerfeld extra auf neun Kapellen erweitert – und wir freuen uns riesig\, eine davon zu sein!\n\n\nAb 18:00 Uhr präsentieren wir und acht weitere Vereine aus der Region unser Programm. Das Besondere: Gespielt wird im Wechsel auf zwei Bühnen\, moderiert vom bekannten Fernsehmoderator und Entertainer Hansy Vogt\, der mit Charme und Witz durch den Abend führt.\n\n\nZum krönenden Abschluss des Festivals formieren sich alle Kapellen zu einem Gesamtchor. Über 300 Musikerinnen und Musiker stehen dann gemeinsam inmitten der Gäste und spielen drei mitreißende Festzelthits. Ein absoluter Gänsehautmoment\, den man als Fan der Blasmusik nicht verpassen sollte!\nKommt vorbei\, unterstützt uns und genießt einen unvergesslichen Abend. Wir sehen uns in Plüderhausen!
URL:https://musikverein-leutenbach.de/event/blasmusikfestival-pluederhausener-festtage/
LOCATION:Gänswasen Plüderhauen\, Plüderhausen
CATEGORIES:Feste
ATTACH;FMTTYPE=image/jpeg:https://musikverein-leutenbach.de/wp-content/uploads/2026/04/Logo-Blasmusikfestival2026.jpg
END:VEVENT
BEGIN:VEVENT
DTSTART;VALUE=DATE:20260731
DTEND;VALUE=DATE:20260803
DTSTAMP:20260421T030502
CREATED:20181228T211133Z
LAST-MODIFIED:20251121T154720Z
UID:733-1785456000-1785715199@musikverein-leutenbach.de
SUMMARY:50. Leutenbacher Hocketse
DESCRIPTION:
URL:https://musikverein-leutenbach.de/event/leutenbacher-hocketse-2/
LOCATION:Spatzenhof Leutenbach\, Spatzenhof\, Leutenbach\, 71397\, Deutschland
CATEGORIES:Feste
ORGANIZER;CN="Musikverein Leutenbach e.V.":MAILTO:presse@musikverein-leutenbach.de
END:VEVENT
BEGIN:VEVENT
DTSTART;TZID=UTC:20260809T110000
DTEND;TZID=UTC:20270809T140000
DTSTAMP:20260421T030502
CREATED:20191225T141443Z
LAST-MODIFIED:20251121T154849Z
UID:936-1786273200-1817820000@musikverein-leutenbach.de
SUMMARY:Weißwurstfrühstück auf dem Löwenplatz
DESCRIPTION:
URL:https://musikverein-leutenbach.de/event/weisswurstfruehstueck-loewenplatz/
LOCATION:Löwenplatz\, Nellmersbacher Str. 8\, Leutenbach\, Baden-Württemberg\, 71397\, Deutschland
CATEGORIES:Feste
ATTACH;FMTTYPE=image/png:https://musikverein-leutenbach.de/wp-content/uploads/2019/12/Weisswurstfruehstueck-Plakat-2023-e1700159472270.png
ORGANIZER;CN="Musikverein Leutenbach e.V.":MAILTO:presse@musikverein-leutenbach.de
END:VEVENT
BEGIN:VEVENT
DTSTART;TZID=UTC:20260904T173000
DTEND;TZID=UTC:20260904T200000
DTSTAMP:20260421T030502
CREATED:20191225T141658Z
LAST-MODIFIED:20251121T154940Z
UID:938-1788543000-1788552000@musikverein-leutenbach.de
SUMMARY:Löwenplatzvesper
DESCRIPTION:
URL:https://musikverein-leutenbach.de/event/loewenplatzvesper/
LOCATION:Löwenplatz\, Nellmersbacher Str. 8\, Leutenbach\, Baden-Württemberg\, 71397\, Deutschland
CATEGORIES:Feste
ATTACH;FMTTYPE=image/png:https://musikverein-leutenbach.de/wp-content/uploads/2019/12/Loewenplatzvesper-e1700159651770.png
ORGANIZER;CN="Musikverein Leutenbach e.V.":MAILTO:presse@musikverein-leutenbach.de
END:VEVENT
BEGIN:VEVENT
DTSTART;TZID=UTC:20261112T080000
DTEND;TZID=UTC:20261112T170000
DTSTAMP:20260421T030503
CREATED:20251121T155306Z
LAST-MODIFIED:20251121T155306Z
UID:1834-1794470400-1794502800@musikverein-leutenbach.de
SUMMARY:Bücherei Event
DESCRIPTION:
URL:https://musikverein-leutenbach.de/event/buecherei-event/
LOCATION:Bücherei Leutenbach\, Leutenbach\, 71397
ORGANIZER;CN="Musikverein Leutenbach e.V.":MAILTO:presse@musikverein-leutenbach.de
END:VEVENT
BEGIN:VEVENT
DTSTART;VALUE=DATE:20261115
DTEND;VALUE=DATE:20261116
DTSTAMP:20260421T030503
CREATED:20251121T155508Z
LAST-MODIFIED:20251121T155508Z
UID:1838-1794700800-1794787199@musikverein-leutenbach.de
SUMMARY:Volkstrauertag
DESCRIPTION:
URL:https://musikverein-leutenbach.de/event/volkstrauertag/
LOCATION:Friedhof Leutenbach\, Walzenhalde 21\, Leutenbach\, 71397
END:VEVENT
BEGIN:VEVENT
DTSTART;VALUE=DATE:20261205
DTEND;VALUE=DATE:20261207
DTSTAMP:20260421T030503
CREATED:20251121T155635Z
LAST-MODIFIED:20251121T155635Z
UID:1843-1796428800-1796601599@musikverein-leutenbach.de
SUMMARY:Weihnachtsmarkt
DESCRIPTION:
URL:https://musikverein-leutenbach.de/event/weihnachtsmarkt/
LOCATION:Spatzenhof Leutenbach\, Spatzenhof\, Leutenbach\, 71397\, Deutschland
END:VEVENT
BEGIN:VEVENT
DTSTART;VALUE=DATE:20261213
DTEND;VALUE=DATE:20261214
DTSTAMP:20260421T030503
CREATED:20251121T155741Z
LAST-MODIFIED:20251121T155741Z
UID:1845-1797120000-1797206399@musikverein-leutenbach.de
SUMMARY:Weihnachtsfeier für Ältere
DESCRIPTION:
URL:https://musikverein-leutenbach.de/event/weihnachtsfeier-fuer-aeltere/
LOCATION:Rems Murr Halle Leutenbach
END:VEVENT
END:VCALENDAR